BEGIN:VCALENDAR
VERSION:2.0
METHOD:PUBLISH
PRODID:-//hacksw/handcal//NONSGML v1.0//EN
BEGIN:VEVENT
DTSTAMP:20260425T153038Z
DTSTART:20240712T200000Z
DTEND:20240712T200000Z
UID:20240712T200000Z-20240712T200000Z-1109@regiosalsa.de
SUMMARY:Fiesta Latina & Ladies Night
DESCRIPTION:♫ ♥ Fiesta Latina & Ladies Night ♫ ♥\nAb 22 Uhr mit DJ Mic
 ky.\nFreitags ist Ladies Night im Mamita mit den besten Hits von Regga
 eton\, RnB\, Electro Latino\, Hip Hop\, Dancehall\, Pop\, Merengue und
  den neuesten Songs aus Lateinamerika.\nAlle Ladies erhalten freien Ei
 ntritt - 2€ Garderobe\nTe esperamos!
X-ALT-DESC;FMTTYPE=text/html:<p>♫ ♥ Fiesta Latina &amp\; Ladies Night 
 ♫ ♥<br>\nAb 22 Uhr mit DJ Micky.<br>\nFreitags ist &#8222\;Ladies Nigh
 t&#8220\; im Mamita mit den besten Hits von Reggaeton\, RnB\, Electro 
 Latino\, Hip Hop\, Dancehall\, Pop\, Merengue und den neuesten Songs a
 us Lateinamerika.<br>\nAlle Ladies erhalten freien Eintritt &#8211\; 2
 € Garderobe<br>\nTe esperamos!</p>\n
URL:https://regiosalsa.de/events/fiesta-latina-ladies-night-15/?lang=d
 e
ATTACH:https://regiosalsa.de/events/fiesta-latina-ladies-night-15/?lan
 g=de
ATTACH:https://regiosalsa.de/wp-content/uploads/sites/14/2024/04/mamit
 a_Foto_2024-300x200.jpg
LOCATION:mamita club.bar.latino.\, Nußmannstr. 7-9\, Freiburg
END:VEVENT
END:VCALENDAR
