BEGIN:VCALENDAR
VERSION:2.0
METHOD:PUBLISH
PRODID:-//hacksw/handcal//NONSGML v1.0//EN
BEGIN:VEVENT
DTSTAMP:20260424T035309Z
DTSTART:20260510T160000Z
DTEND:20260510T210000Z
UID:20260510T160000Z-20260510T210000Z-1840@regiosalsa.de
SUMMARY:SalsaColada im Freiraum
DESCRIPTION:Achtung\, Terminverschiebung! Die SalsaColada im Freiraum 
 Offenburg - in aller Regel an jedem 1. Sonntag im Monat - verschiebt s
 ich im Mai vom 3. auf den 10. Mai\, also den 2. Sonntag dieses Monats\
 , den Muttertag! Danach geht es wie gewohnt weiter an jedem 1. Sonntag
  im Monat!\n\nDie größte und schönste Salsaparty im Südwesten!!!\nSals
 a\, Bachata & Kizomba!\n****************************\nBeginn Schnupper
 kurs: 18:00 Uhr\nBeginn Salsaparty: 19:00 Uhr\n***********************
 ******\nVon 18-19h kostenloser Salsa-/Bachata Schnupperkurs\nfür Begin
 ner!!!\nKeine Anmeldung notwendig!\nEinfach vorbeikommen und mitmachen
 !\nGenießt die einmalige Atmosphäre im Freiraum auf der riesigen Tanzf
 läche!\nOb nun als Tänzer oder einfach nur als Fan der Latin Musik mit
  Freunden in unseren Lounges...\nDJ´s in dieser Nacht:\nDJ Marte Chris
 s (Freiburg/DomRep) & DJ Enrique (Fuego Latino)\nWeitere Infos: www.fu
 egolatino.de
X-ALT-DESC;FMTTYPE=text/html:<p>Achtung\, Terminverschiebung! Die Sals
 aColada im Freiraum Offenburg &#8211\; in aller Regel an jedem 1. Sonn
 tag im Monat &#8211\; verschiebt sich im Mai vom 3. auf den 10. Mai\, 
 also den 2. Sonntag dieses Monats\, den Muttertag! Danach geht es wie 
 gewohnt weiter an jedem 1. Sonntag im Monat!</p>\n<p>Die größte und sc
 hönste Salsaparty im Südwesten!!!<br>\nSalsa\, Bachata &amp\; Kizomba!
 <br>\n****************************<br>\nBeginn Schnupperkurs: 18:00 Uh
 r<br>\nBeginn Salsaparty: 19:00 Uhr<br>\n*****************************
 <br>\nVon 18-19h kostenloser Salsa-/Bachata Schnupperkurs<br>\nfür Beg
 inner!!!<br>\nKeine Anmeldung notwendig!<br>\nEinfach vorbeikommen und
  mitmachen!<br>\nGenießt die einmalige Atmosphäre im Freiraum auf der 
 riesigen Tanzfläche!<br>\nOb nun als Tänzer oder einfach nur als Fan d
 er Latin Musik mit Freunden in unseren Lounges&#8230\;<br>\nDJ´s in di
 eser Nacht:<br>\nDJ Marte Chriss (Freiburg/DomRep) &amp\; DJ Enrique (
 Fuego Latino)<br>\nWeitere Infos: www.fuegolatino.de</p>\n
URL:https://regiosalsa.de/events/salsacolada-im-freiraum-39/?lang=de
ATTACH:https://regiosalsa.de/events/salsacolada-im-freiraum-39/?lang=d
 e
ATTACH:https://regiosalsa.de/wp-content/uploads/sites/14/2026/03/OG-Fr
 eiraum-Flyer_10-5-2026-300x169.jpg
LOCATION:Freiraum\, Marlener Str. 5\, Offenburg
END:VEVENT
END:VCALENDAR
