BEGIN:VCALENDAR
VERSION:2.0
METHOD:PUBLISH
PRODID:-//hacksw/handcal//NONSGML v1.0//EN
BEGIN:VEVENT
DTSTAMP:20260421T081158Z
DTSTART:20251116T180000Z
DTEND:20251116T220000Z
UID:20251116T180000Z-20251116T220000Z-1891@regiosalsa.de
SUMMARY:Rueda
DESCRIPTION:Ab sofort wieder jeden Sonntagabend in der Tanzhalle Freib
 urg:\n\nRueda von 19 bis 20 Uhr mit Boris - Achtung: Ab sofort und bis
  auf Weiteres keine Party mehr im Anschluss daran!
X-ALT-DESC;FMTTYPE=text/html:<p>Ab sofort wieder jeden Sonntagabend in
  der Tanzhalle Freiburg:</p>\n<p>Rueda von 19 bis 20 Uhr mit Boris &#8
 211\; Achtung: Ab sofort und bis auf Weiteres keine Party mehr im Ansc
 hluss daran!</p>\n
URL:https://regiosalsa.de/events/rueda-und-open-dance-floor-40/?lang=d
 e
ATTACH:https://regiosalsa.de/events/rueda-und-open-dance-floor-40/?lan
 g=de
ATTACH:https://regiosalsa.de/wp-content/uploads/sites/14/2025/10/Tanzh
 alle_Timbalaye_OpenDanceFloor-Flyer_10-2025-212x300.jpg
LOCATION:Tanzhalle Freiburg (Timbalaye)\, Markgrafenstr. 38\, Freiburg
END:VEVENT
END:VCALENDAR
