BEGIN:VCALENDAR
VERSION:2.0
METHOD:PUBLISH
PRODID:-//hacksw/handcal//NONSGML v1.0//EN
BEGIN:VEVENT
DTSTAMP:20260425T223642Z
DTSTART:20260513T170000Z
DTEND:20260514T170000Z
UID:20260513T170000Z-20260514T170000Z-2257@regiosalsa.de
SUMMARY:Salsa Molino High Class Event
DESCRIPTION:Auch 2026 gibt es wieder ein Salsa Molino High Class Event
  im Casa Molino Ichenheim!\n\nAb 19 Uhr werden zwei Schnupper-Workshop
 s angeboten - in Salsa und Kizomba.\n\nAb 20 Uhr heißt es dann: Party 
 für alle auf 2 Dance-Floors!\n\nUnd hier weitere Deteils:\n\nTexte en 
 français ci-dessous!\n\nDas Molino in Neuried-Ichenheim zählt mit Abst
 and zu den Top-Locations in Deutschland und ist mit seinem spanischen 
 Ambiente prädestiniert um ein exklusives High Class - Salsa-Event zu z
 elebrieren.\nAuf 4 Bereichen präsentieren wir unseren Gästen ein außer
 gewöhnliches Tanzerlebnis welches noch lange in Erinnerung bleiben wir
 d.\n\nEl Parque\, der Schlenderpark bietet Abkühlung nach einer heißen
  Tanzrunde und weckt südländische Urlaubsgefühle.\nLa Terraza\, der gr
 oßzügige Loungebereich lädt zum Verschnaufen und Plaudern ein.\nEl Zul
 o\, der zweite Dancefloor auf dem an diesem Abend die Kizz-Molino Kizo
 mba-Party stattfinden wird!\nLa Musica ist das Wahrzeichen auf dem Mol
 ino-Gelände. Mit seiner Bar im Kolonialstil und der großen Tanzfläche 
 ist dies der Mittelpunkt des Molino-Areals und wird in dieser Nacht zu
 m Salsa & Bachata - Floor mit dem Fuego Latino-DJ Team (DJ-Support: DJ
  Marte Chriss/FR).\n\nVon 19-20 Uhr bieten wir hier einen Salsa/Bachat
 a-Schnupperkurs an und von 20-21 Uhr gibt es einen Kizomba-Intermediat
 e Workshop mit Daniel (FR) & Selina (FR).\nSomit haben auch Dance-Newc
 omer die Chance diese einmalige Location und unsere Community kennen z
 u lernen.\nWir freuen uns auf viele Gäste und Freunde!\n\nWell-dressed
  welcome! - Einlaß ab 18 Jahren!\n------------------------------------
 ------\n\nLe Molino à Neuried-Ichenheim compte de loin parmi les top-é
 tablissements en Allemagne et est avec son ambiance espagnole prédesti
 né pour célébrer cette événement de salsa exclusif et noble.\nSur 4 zo
 nes\, nous présenterons à nos hôtes une expérience de danse extraordin
 aire qui restera encore longtemps dans les souvenir.\n\nEl Parque\, le
  parc offre un refroidissement après un moment de danse chaude et réve
 ille les sentiments de vacances au sud.\nLa Terraza\, un grand salon q
 ui invite au bavardage.\nEl Zulo\, le deuxième dancefloor sur lequel s
 eule la Kizomba sera jouée ce soir !\nLa Musica est l'emblème du Molin
 o. Avec son bar dans le style colonial et sa grande piste de danse\,\n
 il sera le centre du Molino et aussi la piste de dance Salsa\, Bachata
  et Kizomba.\n\nDe 19-20 heures\, nous proposerons un essai au cours d
 e Salsa/Bachata et de 20-21 heuers un essai au cours de Kizomba Interm
 ediate. Ainsi\, auront aussi les nouveaux venus dans la danse salsa la
  chance exceptionnelle de faire la connaissance de ce lieu et de notre
  Communauté.\nNous nous réjouissons sur beaucoup d'hôtes et des amis.\
 n\nA partir de 18 ans.\nWelldressed welcome!
X-ALT-DESC;FMTTYPE=text/html:<p>Auch 2026 gibt es wieder ein Salsa Mol
 ino High Class Event im Casa Molino Ichenheim!</p>\n<p>Ab 19 Uhr werde
 n zwei Schnupper-Workshops angeboten &#8211\; in Salsa und Kizomba.</p
 >\n<p>Ab 20 Uhr heißt es dann: Party für alle auf 2 Dance-Floors!</p>\
 n<p>Und hier weitere Deteils:</p>\n<p>Texte en français ci-dessous!</p
 >\n<p>Das &#8222\;Molino&#8220\; in Neuried-Ichenheim zählt mit Abstan
 d zu den Top-Locations in Deutschland und ist mit seinem spanischen Am
 biente prädestiniert um ein exklusives High Class &#8211\; Salsa-Event
  zu zelebrieren.<br>\nAuf 4 Bereichen präsentieren wir unseren Gästen 
 ein außergewöhnliches Tanzerlebnis welches noch lange in Erinnerung bl
 eiben wird.</p>\n<p>&#8222\;El Parque&#8220\;\, der Schlenderpark biet
 et Abkühlung nach einer heißen Tanzrunde und weckt südländische Urlaub
 sgefühle.<br>\n&#8222\;La Terraza&#8220\;\, der großzügige Loungeberei
 ch lädt zum Verschnaufen und Plaudern ein.<br>\n&#8222\;El Zulo&#8220\
 ;\, der zweite Dancefloor auf dem an diesem Abend die &#8222\;Kizz-Mol
 ino&#8220\; Kizomba-Party stattfinden wird!<br>\n&#8222\;La Musica&#82
 20\; ist das Wahrzeichen auf dem Molino-Gelände. Mit seiner Bar im Kol
 onialstil und der großen Tanzfläche ist dies der Mittelpunkt des Molin
 o-Areals und wird in dieser Nacht zum Salsa &amp\; Bachata &#8211\; Fl
 oor mit dem &#8222\;Fuego Latino&#8220\;-DJ Team (DJ-Support: DJ Marte
  Chriss/FR).</p>\n<p>Von 19-20 Uhr bieten wir hier einen Salsa/Bachata
 -Schnupperkurs an und von 20-21 Uhr gibt es einen Kizomba-Intermediate
  Workshop mit Daniel (FR) &amp\; Selina (FR).<br>\nSomit haben auch Da
 nce-Newcomer die Chance diese einmalige Location und unsere Community 
 kennen zu lernen.<br>\nWir freuen uns auf viele Gäste und Freunde!</p>
 \n<p>Well-dressed welcome! &#8211\; Einlaß ab 18 Jahren!<br>\n&#8212\;
 &#8212\;&#8212\;&#8212\;&#8212\;&#8212\;&#8212\;&#8212\;&#8212\;&#8212
 \;&#8212\;&#8212\;&#8212\;&#8212\;</p>\n<p>Le &#8222\;Molino&#8220\; à
  Neuried-Ichenheim compte de loin parmi les top-établissements en Alle
 magne et est avec son ambiance espagnole prédestiné pour célébrer cett
 e événement de salsa exclusif et noble.<br>\nSur 4 zones\, nous présen
 terons à nos hôtes une expérience de danse extraordinaire qui restera 
 encore longtemps dans les souvenir.</p>\n<p>&#8222\;El Parque&#8220\;\
 , le parc offre un refroidissement après un moment de danse chaude et 
 réveille les sentiments de vacances au sud.<br>\n&#8222\;La Terraza&#8
 220\;\, un grand salon qui invite au bavardage.<br>\n&#8222\;El Zulo&#
 8220\;\, le deuxième dancefloor sur lequel seule la Kizomba sera jouée
  ce soir !<br>\n&#8222\;La Musica&#8220\; est l&#8217\;emblème du Moli
 no. Avec son bar dans le style colonial et sa grande piste de danse\,<
 br>\nil sera le centre du Molino et aussi la piste de dance Salsa\, Ba
 chata et Kizomba.</p>\n<p>De 19-20 heures\, nous proposerons un essai 
 au cours de Salsa/Bachata et de 20-21 heuers un essai au cours de Kizo
 mba Intermediate. Ainsi\, auront aussi les nouveaux venus dans la dans
 e salsa la chance exceptionnelle de faire la connaissance de ce lieu e
 t de notre Communauté.<br>\nNous nous réjouissons sur beaucoup d&#8217
 \;hôtes et des amis.</p>\n<p>A partir de 18 ans.<br>\nWelldressed welc
 ome!</p>\n
URL:https://regiosalsa.de/events/salsa-molino-high-class-event/?lang=d
 e
ATTACH:https://regiosalsa.de/events/salsa-molino-high-class-event/?lan
 g=de
ATTACH:https://regiosalsa.de/wp-content/uploads/sites/14/2026/03/Molin
 o_2026-05-13-300x169.jpg
LOCATION:Casa Molino\, Auf der Alm 9\, Neuried-Ichenheim
END:VEVENT
END:VCALENDAR
