BEGIN:VCALENDAR
VERSION:2.0
METHOD:PUBLISH
PRODID:-//hacksw/handcal//NONSGML v1.0//EN
BEGIN:VEVENT
DTSTAMP:20260425T223740Z
DTSTART:20260513T180000Z
DTEND:20260514T180000Z
UID:20260513T180000Z-20260514T180000Z-2258@regiosalsa.de
SUMMARY:Kizz Molino
DESCRIPTION:Texte en français ci-dessous!\n\nDas Double-Feature am Fre
 itag\, den 13.05.26 in Neuried/Ichenheim (nächster Tag ist Feiertag in
  Deutschland)!\nZum fünften Mal präsentieren wir euch die Kizz-Molino-
 Kizomba-Party in einer der schönsten Event-Locations der Region!\nDj a
 uf dem Kizomba-Dancefloor ist DJ High Energy aus Freiburg (Kizomba-Tar
 axxa) und von 20-21 Uhr gibt es einen Kizomba-Intermediate Workshop mi
 t Daniel (FR) & Selina (FR).\n\nWir freuen uns auf viele Gäste und Fre
 unde!\n\nWell-dressed welcome! - Einlaß ab 18 Jahren!\n\n_____________
 ____________________________\n\nLe „double-feature“ vendredi le 13.05.
 26 à Neuried/ Ichenheim (le lendemain est un jour férié en Allemagne).
 \n\nPour la cinquième fois nous vous présentent la „Kizz-Molino“-Kizom
 ba-Party dans un des plus beaux emplacements d'événements de la région
 !\nLe Dj dans la grande salle de dance est DJ High Energy (Kizomba-Tar
 axxa) et de 20-21 heures il y aura lieu un cours intermédiaire de Kizo
 mba avec Daniel (FR) & Selina (FR).\n\nNous nous réjouissons de nombre
 ux visiteurs et amis!\nWell-dressed welcome!\nEntrée à partir de 18 an
 s!
X-ALT-DESC;FMTTYPE=text/html:<p>Texte en français ci-dessous!</p>\n<p>
 Das &#8222\;Double-Feature&#8220\; am Freitag\, den 13.05.26 in Neurie
 d/Ichenheim (nächster Tag ist Feiertag in Deutschland)!<br>\nZum fünft
 en Mal präsentieren wir euch die &#8222\;Kizz-Molino&#8220\;-Kizomba-P
 arty in einer der schönsten Event-Locations der Region!<br>\nDj auf de
 m Kizomba-Dancefloor ist DJ High Energy aus Freiburg (Kizomba-Taraxxa)
  und von 20-21 Uhr gibt es einen Kizomba-Intermediate Workshop mit Dan
 iel (FR) &amp\; Selina (FR).</p>\n<p>Wir freuen uns auf viele Gäste un
 d Freunde!</p>\n<p>Well-dressed welcome! &#8211\; Einlaß ab 18 Jahren!
 </p>\n<p>_________________________________________</p>\n<p>Le „double-
 feature“ vendredi le 13.05.26 à Neuried/ Ichenheim (le lendemain est u
 n jour férié en Allemagne).</p>\n<p>Pour la cinquième fois nous vous p
 résentent la „Kizz-Molino“-Kizomba-Party dans un des plus beaux emplac
 ements d&#8217\;événements de la région!<br>\nLe Dj dans la grande sal
 le de dance est DJ High Energy (Kizomba-Taraxxa) et de 20-21 heures il
  y aura lieu un cours intermédiaire de Kizomba avec Daniel (FR) &amp\;
  Selina (FR).</p>\n<p>Nous nous réjouissons de nombreux visiteurs et a
 mis!<br>\nWell-dressed welcome!<br>\nEntrée à partir de 18 ans!</p>\n
URL:https://regiosalsa.de/events/kizz-molino-2/?lang=de
ATTACH:https://regiosalsa.de/events/kizz-molino-2/?lang=de
ATTACH:https://regiosalsa.de/wp-content/uploads/sites/14/2026/03/Molin
 o-Kizz_2026-05-13-300x169.jpg
LOCATION:Casa Molino\, Auf der Alm 9\, Neuried-Ichenheim
END:VEVENT
END:VCALENDAR
