BEGIN:VCALENDAR
VERSION:2.0
METHOD:PUBLISH
PRODID:-//hacksw/handcal//NONSGML v1.0//EN
BEGIN:VEVENT
DTSTAMP:20260422T130719Z
DTSTART:20260508T200000Z
DTEND:20260508T200000Z
UID:20260508T200000Z-20260508T200000Z-2265@regiosalsa.de
SUMMARY:Fiesta Latina & Ladies Night
DESCRIPTION:Freitags ist „Ladies Night“ im Mamita Club mit den besten 
 Hits von Reggaeton\, RnB\, Electro Latino\, Hip Hop\, Dancehall\, Pop\
 , Merengue und den neuesten Songs aus Lateinamerika!\nAlle Ladies erha
 lten freien Eintritt - 2€ Garderobe\nTe esperamos!
X-ALT-DESC;FMTTYPE=text/html:<p>Freitags ist „Ladies Night“ im Mamita 
 Club mit den besten Hits von Reggaeton\, RnB\, Electro Latino\, Hip Ho
 p\, Dancehall\, Pop\, Merengue und den neuesten Songs aus Lateinamerik
 a!<br>\nAlle Ladies erhalten freien Eintritt &#8211\; 2€ Garderobe<br>
 \nTe esperamos!</p>\n
URL:https://regiosalsa.de/events/fiesta-latina-ladies-night-25/?lang=d
 e
ATTACH:https://regiosalsa.de/events/fiesta-latina-ladies-night-25/?lan
 g=de
ATTACH:https://regiosalsa.de/wp-content/uploads/sites/14/2026/03/Mamit
 a_Freitag_Ladies-Night_2026_Flyer-300x200.jpg
LOCATION:mamita club.bar.latino.\, Nußmannstr. 7-9\, Freiburg
END:VEVENT
END:VCALENDAR
